BEGIN:VCALENDAR
VERSION:2.0
PRODID:-//Families Helping Families of Iowa - ECPv6.15.20//NONSGML v1.0//EN
CALSCALE:GREGORIAN
METHOD:PUBLISH
X-WR-CALNAME:Families Helping Families of Iowa
X-ORIGINAL-URL:https://familieshelpingfamiliesofiowa.org
X-WR-CALDESC:Events for Families Helping Families of Iowa
REFRESH-INTERVAL;VALUE=DURATION:PT1H
X-Robots-Tag:noindex
X-PUBLISHED-TTL:PT1H
BEGIN:VTIMEZONE
TZID:America/Chicago
BEGIN:DAYLIGHT
TZOFFSETFROM:-0600
TZOFFSETTO:-0500
TZNAME:CDT
DTSTART:20250309T080000
END:DAYLIGHT
BEGIN:STANDARD
TZOFFSETFROM:-0500
TZOFFSETTO:-0600
TZNAME:CST
DTSTART:20251102T070000
END:STANDARD
BEGIN:DAYLIGHT
TZOFFSETFROM:-0600
TZOFFSETTO:-0500
TZNAME:CDT
DTSTART:20260308T080000
END:DAYLIGHT
BEGIN:STANDARD
TZOFFSETFROM:-0500
TZOFFSETTO:-0600
TZNAME:CST
DTSTART:20261101T070000
END:STANDARD
BEGIN:DAYLIGHT
TZOFFSETFROM:-0600
TZOFFSETTO:-0500
TZNAME:CDT
DTSTART:20270314T080000
END:DAYLIGHT
BEGIN:STANDARD
TZOFFSETFROM:-0500
TZOFFSETTO:-0600
TZNAME:CST
DTSTART:20271107T070000
END:STANDARD
END:VTIMEZONE
BEGIN:VEVENT
DTSTART;TZID=America/Chicago:20260521T110000
DTEND;TZID=America/Chicago:20260521T190000
DTSTAMP:20260420T060627
CREATED:20260211T152406Z
LAST-MODIFIED:20260211T183949Z
UID:2574-1779361200-1779390000@familieshelpingfamiliesofiowa.org
SUMMARY:4th Annual Scramble for Children Golf Tournament
DESCRIPTION:The Cedar Rapids Sunrise Rotary and Families Helping Families come together for a golf tournament on Thursday\, May 21\, 2026. Check in time- 11:00 a.m. 12:00 p.m. Tee Off. \nYour Entry Includes:\n– Noon Tee Off\n– 18 holes with Cart\n– Use of Driving Range\n– Gift Bags\n– Dinner\n– Silent Auction \nAt Families Helping Families (FHF)\, our mission is to support children in foster care and the caregivers who selflessly open their hearts and homes to them. We are dedicated to creating an environment where these children can thrive and feel valued while providing essential resources and unwavering support for their caregivers on this important journey. \nLearn more about how the Cedar Rapids Sunrise Rotary and Families Helping Families are making an impact in Cedar Rapids metropolitan area and across the state. Visit us online at www.familieshelpingfamiliesofiowa.org. \nClick the website link below to register today!
URL:https://familieshelpingfamiliesofiowa.org/event/4th-annual-scramble-for-children-golf-tournament/
ORGANIZER;CN="Families Helping Families":MAILTO:office@fhfia.org
END:VEVENT
END:VCALENDAR